BEGIN:VCALENDAR
VERSION:2.0
PRODID:-//Tukios.com/
BEGIN:VEVENT
UID:2dbf64b8-f1fa-4578-a6ab-be29f827a6b2@www.cutlerfuneral.com
DTSTAMP:20260424T230449Z
DTSTART:20260501T170000Z
DTEND:20260501T173000Z
SUMMARY:Burial
DESCRIPTION:
URL:https://www.cutlerfuneral.com/obituaries/florene-penny
LOCATION:Pine Lake Cemetery 1367 Pine Lake Ave.  La Porte IN 46350
GEO:41.6316078;-86.7384479
END:VEVENT
END:VCALENDAR