BEGIN:VCALENDAR
VERSION:2.0
PRODID:-//Tukios.com/
BEGIN:VEVENT
UID:65450d3a-cd22-43b9-91e2-c7c8e88278f5@www.cutlerfuneral.com
DTSTAMP:20260424T225943Z
DTSTART:20260501T160000Z
DTEND:20260501T170000Z
SUMMARY:Celebration of Life Service
DESCRIPTION:
URL:https://www.cutlerfuneral.com/obituaries/florene-penny
LOCATION:Cutler Funeral Home and Cremation Center 2900 Monroe Street  La 
	Porte IN 46350
GEO:41.6003288;-86.6921342
END:VEVENT
END:VCALENDAR