BEGIN:VCALENDAR
VERSION:2.0
PRODID:-//Tukios.com/
BEGIN:VEVENT
UID:fc8e5c73-9145-4fdc-9b1b-e6b68f312a1b@www.cutlerfuneral.com
DTSTAMP:20260424T230137Z
DTSTART:20260501T150000Z
DTEND:20260501T160000Z
SUMMARY:Public Viewing
DESCRIPTION:
URL:https://www.cutlerfuneral.com/obituaries/florene-penny
LOCATION:Cutler Funeral Home and Cremation Center 2900 Monroe Street  La 
	Porte IN 46350
GEO:41.600315;-86.6921481
END:VEVENT
END:VCALENDAR