BEGIN:VCALENDAR
VERSION:2.0
PRODID:-//Tukios.com/
BEGIN:VEVENT
UID:28738a16-26a0-4de8-9f14-1222b779f731@www.cutlerfuneral.com
DTSTAMP:20260424T230616Z
DTSTART:20260430T220000Z
DTEND:20260501T000000Z
SUMMARY:Public Viewing
DESCRIPTION:
URL:https://www.cutlerfuneral.com/obituaries/florene-penny
LOCATION:Cutler Funeral Home and Cremation Center 2900 Monroe Street  La 
	Porte IN 46350
GEO:41.600315;-86.6921481
END:VEVENT
END:VCALENDAR