BEGIN:VCALENDAR
VERSION:2.0
PRODID:-//Tukios.com/
BEGIN:VEVENT
UID:80c4af11-b3be-44b1-aa8f-5f6c6b96b9fc@www.cutlerfuneral.com
DTSTAMP:20260422T194527Z
DTSTART:20260703T160000Z
DTEND:20260703T170000Z
SUMMARY:Mass of Christian Burial
DESCRIPTION:
URL:https://www.cutlerfuneral.com/obituaries/karen-garrett
LOCATION:Holy Family Parish-St. Peter Catholic Church 201 Bach Street  La 
	Porte IN 46350
GEO:41.6211076;-86.7144113
END:VEVENT
END:VCALENDAR