BEGIN:VCALENDAR
VERSION:2.0
PRODID:-//Tukios.com/
BEGIN:VEVENT
UID:7d2dccdc-098c-4493-9c97-0031aee4773a@www.cutlerfuneral.com
DTSTAMP:20260422T194148Z
DTSTART:20260703T150000Z
DTEND:20260703T160000Z
SUMMARY:Visitation
DESCRIPTION:
URL:https://www.cutlerfuneral.com/obituaries/karen-garrett
LOCATION:Holy Family Parish-St. Peter Catholic Church 201 Bach Street  La 
	Porte IN 46350
GEO:41.6211076;-86.7144113
END:VEVENT
END:VCALENDAR